BEGIN:VCALENDAR
PRODID://WordPress//Event-Post-V5.9.2//EN
VERSION:2.0
BEGIN:VTIMEZONE
TZID:Europe/Athens
BEGIN:DAYLIGHT
TZOFFSETFROM:+0100
TZOFFSETTO:+0300
DTSTART:19700329T020000
RRULE:FREQ=YEARLY;BYDAY=-1SU;BYMONTH=3
END:DAYLIGHT
BEGIN:STANDARD
TZOFFSETFROM:+0300
TZOFFSETTO:+0100
TZNAME:CET
DTSTART:19701025T030000
RRULE:FREQ=YEARLY;BYDAY=-1SU;BYMONTH=10
END:STANDARD
END:VTIMEZONE
BEGIN:VEVENT
SUMMARY:C.I.V.I.S. Sustainability Challenge 2026 (27-28 Μαρτίου 2026): Πρόσκληση συμμετοχής σε φοιτήτριες και φοιτητές του ΕΚΠΑ
UID:https://hub.uoa.gr/c-i-v-i-s-sustainability-challenge-2026-27-28-martiou-2026-prosklisi-symmetochis-se-foititries-kai-foitites-tou-ekpa/
LOCATION:
DTSTAMP:20260327
DTSTART;TZID=Europe/Athens:20260327
DTEND;TZID=Europe/Athens:20260328
DESCRIPTION:Το Εργαστήριο Περιβαλλοντικής
Εκπαίδευσης της Φιλοσοφικής Σχολής του
ΕΚΠΑ διοργανώνει το C.I.V.I.S. Sustainability Challenge
2026, ένα διήμερο βιωματικό workshop
συνεργατικής μάθησης και κοινωνικής
καινοτομίας για φοιτήτριες και φοιτητές
από όλα τα Τμήματα/Σχολές του ΕΚΠΑ.

Η δράση υλοποιείται στο πλαίσιο της
Συμμαχίας Ευρωπαϊκών Πανεπιστημίων CIVIS
και εντάσσεται στον Κύκλο δράσεων «Το
ΕΚΠΑ στην Πόλη».

Στόχος του βιωματικού εργαστηρίου είναι
η ανάπτυξη δεξιοτήτων αειφορίας,
διεπιστημονικότητας και δημιουργικής
σκέψης φοιτητριών/τών (προπτυχιακών,
μεταπτυχιακών και υποψηφίων διδακτόρων),
οι οποίοι θα συνεργαστούν, αναζητώντας
καινοτόμες και ρεαλιστικές λύσεις σε
προκλήσεις του πραγματικού κόσμου, που
σχετίζονται με την αειφορία (sustainability
challenges).

Κατά τη διάρκεια του διημέρου, οι
συμμετέχουσες και οι συμμετέχοντες θα
αναπτύξουν σε διεπιστημονικές ομάδες
ιδέες και προτάσεις για ένα sustainability
challenge. Η ομάδα που θα αναδειχτεί θα
εκπροσωπήσει το ΕΚΠΑ στο διεθνές C.I.V.I.S.
Sustainability Challenge, τον Μάιο του 2026.

Πότε και πού θα λάβει χώρα το διήμερο
workshop:

- Παρασκευή 27 &amp; Σάββατο 28 Μαρτίου 2026,
09:00–16:00
- Μουσείο Λαϊκής Τέχνης και Παράδοσης
«Αγγελική Χατζημιχάλη» (Αγγ. Χατζημιχάλη
6, Πλάκα)

Όσοι και όσες ενδιαφέρονται μπορούν να
δηλώσουν συμμετοχή έως τις 17 Μαρτίου και
να γίνουν μέρος μιας δημιουργικής,
διεπιστημονικής μάθησης που συνδέει το
Πανεπιστήμιο με την κοινωνία και την
πόλη.

Θα δοθεί βεβαίωση συμμετοχής.

- Φόρμα συμμετοχής: https://forms.gle/6pPEw9wySQs7Tbto9

[video width="400" height="800"
mp4="https://hub.uoa.gr/wp-content/uploads/2026/03/EEL-NKUA_Promo-video.mp4"][/video]



 
END:VEVENT
END:VCALENDAR